BEGIN:VCALENDAR
VERSION:2.0
PRODID:-//Grüne Hammersbach - ECPv6.9.0//NONSGML v1.0//EN
CALSCALE:GREGORIAN
METHOD:PUBLISH
X-WR-CALNAME:Grüne Hammersbach
X-ORIGINAL-URL:https://www.gruene-hammersbach.de
X-WR-CALDESC:Veranstaltungen für Grüne Hammersbach
REFRESH-INTERVAL;VALUE=DURATION:PT1H
X-Robots-Tag:noindex
X-PUBLISHED-TTL:PT1H
BEGIN:VTIMEZONE
TZID:Europe/Berlin
BEGIN:DAYLIGHT
TZOFFSETFROM:+0100
TZOFFSETTO:+0200
TZNAME:CEST
DTSTART:20250330T010000
END:DAYLIGHT
BEGIN:STANDARD
TZOFFSETFROM:+0200
TZOFFSETTO:+0100
TZNAME:CET
DTSTART:20251026T010000
END:STANDARD
BEGIN:DAYLIGHT
TZOFFSETFROM:+0100
TZOFFSETTO:+0200
TZNAME:CEST
DTSTART:20260329T010000
END:DAYLIGHT
BEGIN:STANDARD
TZOFFSETFROM:+0200
TZOFFSETTO:+0100
TZNAME:CET
DTSTART:20261025T010000
END:STANDARD
END:VTIMEZONE
BEGIN:VEVENT
DTSTART;TZID=Europe/Berlin:20260313T140000
DTEND;TZID=Europe/Berlin:20260313T160000
DTSTAMP:20260421T201741
CREATED:20260228T131258Z
LAST-MODIFIED:20260228T131258Z
UID:1785-1773410400-1773417600@www.gruene-hammersbach.de
SUMMARY:Wahl-Infostand
DESCRIPTION:REWE-Parkplatz in Langenbergheim
URL:https://www.gruene-hammersbach.de/event/wahl-infostand-2/
END:VEVENT
BEGIN:VEVENT
DTSTART;TZID=Europe/Berlin:20260306T140000
DTEND;TZID=Europe/Berlin:20260306T160000
DTSTAMP:20260421T201742
CREATED:20260228T131145Z
LAST-MODIFIED:20260228T131439Z
UID:1783-1772805600-1772812800@www.gruene-hammersbach.de
SUMMARY:Wahl-Infostand
DESCRIPTION:Am Nahkauf in Marköbel
URL:https://www.gruene-hammersbach.de/event/wahl-infostand/
END:VEVENT
BEGIN:VEVENT
DTSTART;TZID=Europe/Berlin:20260225T193000
DTEND;TZID=Europe/Berlin:20260225T210000
DTSTAMP:20260421T201742
CREATED:20260220T161546Z
LAST-MODIFIED:20260220T161546Z
UID:1751-1772047800-1772053200@www.gruene-hammersbach.de
SUMMARY:OV-Sitzung
DESCRIPTION:
URL:https://www.gruene-hammersbach.de/event/ov-sitzung-6/
LOCATION:Martin-Luther-Haus\, Hammersbach\, Hessen\, 63546\, Germany
END:VEVENT
BEGIN:VEVENT
DTSTART;TZID=Europe/Berlin:20260206T190000
DTEND;TZID=Europe/Berlin:20260206T210000
DTSTAMP:20260421T201742
CREATED:20260123T094814Z
LAST-MODIFIED:20260123T100005Z
UID:1738-1770404400-1770411600@www.gruene-hammersbach.de
SUMMARY:Stadt im Klimawandel - Eine Veranstaltung des OV B90/Grüne\, Langenselbold
DESCRIPTION:
URL:https://www.gruene-hammersbach.de/event/stadt-im-klimawandel/
LOCATION:Klosterberghalle Langenselbold
END:VEVENT
BEGIN:VEVENT
DTSTART;TZID=Europe/Berlin:20251218T190000
DTEND;TZID=Europe/Berlin:20251218T210000
DTSTAMP:20260421T201742
CREATED:20251218T124445Z
LAST-MODIFIED:20251218T124445Z
UID:1731-1766084400-1766091600@www.gruene-hammersbach.de
SUMMARY:OV Sitzung
DESCRIPTION:
URL:https://www.gruene-hammersbach.de/event/ov-sitzung-5/
LOCATION:Martin-Luther-Haus\, Hammersbach\, Hessen\, 63546\, Germany
CATEGORIES:Ortsverband
END:VEVENT
BEGIN:VEVENT
DTSTART;TZID=Europe/Berlin:20251209T200000
DTEND;TZID=Europe/Berlin:20251209T220000
DTSTAMP:20260421T201742
CREATED:20250113T094213Z
LAST-MODIFIED:20250113T094213Z
UID:1452-1765310400-1765317600@www.gruene-hammersbach.de
SUMMARY:Gemeindevertretersitzung
DESCRIPTION:
URL:https://www.gruene-hammersbach.de/event/gemeindevertretersitzung-5/
LOCATION:Bürgertreff\, Am alten Friedhof\, Hammersbach\, Hessen\, 63546
END:VEVENT
BEGIN:VEVENT
DTSTART;TZID=Europe/Berlin:20251028T200000
DTEND;TZID=Europe/Berlin:20251028T220000
DTSTAMP:20260421T201742
CREATED:20250113T094134Z
LAST-MODIFIED:20250113T094134Z
UID:1450-1761681600-1761688800@www.gruene-hammersbach.de
SUMMARY:Gemeindevertretersitzung
DESCRIPTION:
URL:https://www.gruene-hammersbach.de/event/gemeindevertretersitzung-4/
LOCATION:Bürgertreff\, Am alten Friedhof\, Hammersbach\, Hessen\, 63546
END:VEVENT
BEGIN:VEVENT
DTSTART;TZID=Europe/Berlin:20250924T200000
DTEND;TZID=Europe/Berlin:20250924T220000
DTSTAMP:20260421T201742
CREATED:20250518T103702Z
LAST-MODIFIED:20250518T103702Z
UID:1658-1758744000-1758751200@www.gruene-hammersbach.de
SUMMARY:OV Sitzung mit Listenaufstellung
DESCRIPTION:
URL:https://www.gruene-hammersbach.de/event/ov-sitzung-mit-listenaufstellung/
LOCATION:Martin-Luther-Haus\, Hammersbach\, Hessen\, 63546\, Germany
CATEGORIES:Ortsverband
ATTACH;FMTTYPE=image/png:https://www.gruene-hammersbach.de/wp-content/uploads/2024/12/1200px-Sunflower_Green_symbol.svg_-e1739047157983.png
END:VEVENT
BEGIN:VEVENT
DTSTART;TZID=Europe/Berlin:20250716T200000
DTEND;TZID=Europe/Berlin:20250716T213000
DTSTAMP:20260421T201742
CREATED:20250208T205633Z
LAST-MODIFIED:20250210T184037Z
UID:1610-1752696000-1752701400@www.gruene-hammersbach.de
SUMMARY:OV-Sitzung
DESCRIPTION:
URL:https://www.gruene-hammersbach.de/event/ov-sitzung-4/
CATEGORIES:Ortsverband
ATTACH;FMTTYPE=image/png:https://www.gruene-hammersbach.de/wp-content/uploads/2024/12/1200px-Sunflower_Green_symbol.svg_-e1739047157983.png
END:VEVENT
BEGIN:VEVENT
DTSTART;VALUE=DATE:20250707
DTEND;VALUE=DATE:20250708
DTSTAMP:20260421T201742
CREATED:20250208T210240Z
LAST-MODIFIED:20250208T210620Z
UID:1612-1751846400-1751932799@www.gruene-hammersbach.de
SUMMARY:OV-Sommertour
DESCRIPTION:Vom 7. Juli bis zum 15. August sind hessische Sommerferien. Für diese Zeit planen wir Ortstermine und Ausflüge. Die genauen Termine werden rechtzeitig im Kalender veröffentlicht.\nKommt doch mit…
URL:https://www.gruene-hammersbach.de/event/ov-sommertour/
ATTACH;FMTTYPE=image/jpeg:https://www.gruene-hammersbach.de/wp-content/uploads/2025/01/IMG_5787-e1739048506386.jpg
END:VEVENT
BEGIN:VEVENT
DTSTART;TZID=Europe/Berlin:20250701T200000
DTEND;TZID=Europe/Berlin:20250701T220000
DTSTAMP:20260421T201742
CREATED:20250113T093841Z
LAST-MODIFIED:20250113T093841Z
UID:1445-1751400000-1751407200@www.gruene-hammersbach.de
SUMMARY:Gemeindevertretersitzung
DESCRIPTION:
URL:https://www.gruene-hammersbach.de/event/gemeindevertretersitzung-2/
LOCATION:Bürgertreff\, Am alten Friedhof\, Hammersbach\, Hessen\, 63546
END:VEVENT
BEGIN:VEVENT
DTSTART;TZID=Europe/Berlin:20250618T200000
DTEND;TZID=Europe/Berlin:20250618T213000
DTSTAMP:20260421T201742
CREATED:20250208T205545Z
LAST-MODIFIED:20250208T205545Z
UID:1608-1750276800-1750282200@www.gruene-hammersbach.de
SUMMARY:OV-Stammtisch
DESCRIPTION:Zusammensitzen in lockerer Runde\, ohne Tagesordnung – Zeit für Gespräche.
URL:https://www.gruene-hammersbach.de/event/ov-stammtisch-3/
LOCATION:Martin-Luther-Haus\, Hammersbach\, Hessen\, 63546\, Germany
ATTACH;FMTTYPE=image/png:https://www.gruene-hammersbach.de/wp-content/uploads/2024/12/1200px-Sunflower_Green_symbol.svg_-e1739047157983.png
END:VEVENT
BEGIN:VEVENT
DTSTART;TZID=Europe/Berlin:20250605T200000
DTEND;TZID=Europe/Berlin:20250605T220000
DTSTAMP:20260421T201742
CREATED:20250116T104059Z
LAST-MODIFIED:20250116T104059Z
UID:1519-1749153600-1749160800@www.gruene-hammersbach.de
SUMMARY:Ausschusswoche
DESCRIPTION:Haupt- und Finanzausschuss
URL:https://www.gruene-hammersbach.de/event/ausschusswoche-11/
LOCATION:Martin-Luther-Haus\, Hammersbach\, Hessen\, 63546\, Germany
END:VEVENT
BEGIN:VEVENT
DTSTART;TZID=Europe/Berlin:20250604T200000
DTEND;TZID=Europe/Berlin:20250604T220000
DTSTAMP:20260421T201742
CREATED:20250116T102924Z
LAST-MODIFIED:20250116T102924Z
UID:1514-1749067200-1749074400@www.gruene-hammersbach.de
SUMMARY:Ausschusswoche
DESCRIPTION:Umwelt\, Landwirtschaft und Forsten
URL:https://www.gruene-hammersbach.de/event/ausschusswoche-10/
LOCATION:Martin-Luther-Haus\, Hammersbach\, Hessen\, 63546\, Germany
CATEGORIES:Gemeinde Hammersbach
END:VEVENT
BEGIN:VEVENT
DTSTART;TZID=Europe/Berlin:20250603T200000
DTEND;TZID=Europe/Berlin:20250603T220000
DTSTAMP:20260421T201742
CREATED:20250116T101827Z
LAST-MODIFIED:20250116T101827Z
UID:1510-1748980800-1748988000@www.gruene-hammersbach.de
SUMMARY:Ausschusswoche
DESCRIPTION:Bau und Planung
URL:https://www.gruene-hammersbach.de/event/ausschusswoche-9/
LOCATION:Martin-Luther-Haus\, Hammersbach\, Hessen\, 63546\, Germany
END:VEVENT
BEGIN:VEVENT
DTSTART;TZID=Europe/Berlin:20250602T200000
DTEND;TZID=Europe/Berlin:20250602T220000
DTSTAMP:20260421T201742
CREATED:20250116T101403Z
LAST-MODIFIED:20250116T101403Z
UID:1507-1748894400-1748901600@www.gruene-hammersbach.de
SUMMARY:Ausschusswoche
DESCRIPTION:Jugend\, Kultur und Soziales
URL:https://www.gruene-hammersbach.de/event/ausschusswoche-8/
LOCATION:Martin-Luther-Haus\, Hammersbach\, Hessen\, 63546\, Germany
END:VEVENT
BEGIN:VEVENT
DTSTART;TZID=Europe/Berlin:20250514T200000
DTEND;TZID=Europe/Berlin:20250514T213000
DTSTAMP:20260421T201742
CREATED:20250208T205446Z
LAST-MODIFIED:20250208T205446Z
UID:1606-1747252800-1747258200@www.gruene-hammersbach.de
SUMMARY:OV-Sitzung
DESCRIPTION:
URL:https://www.gruene-hammersbach.de/event/ov-sitzung-3/
LOCATION:Martin-Luther-Haus\, Hammersbach\, Hessen\, 63546\, Germany
ATTACH;FMTTYPE=image/png:https://www.gruene-hammersbach.de/wp-content/uploads/2024/12/1200px-Sunflower_Green_symbol.svg_-e1739047157983.png
END:VEVENT
BEGIN:VEVENT
DTSTART;TZID=Europe/Berlin:20250503T140000
DTEND;TZID=Europe/Berlin:20250503T160000
DTSTAMP:20260421T201742
CREATED:20250123T123834Z
LAST-MODIFIED:20250208T204700Z
UID:1578-1746280800-1746288000@www.gruene-hammersbach.de
SUMMARY:Pflanzentauschbörse
DESCRIPTION:Auf dem Vereinsgelände des Obst- und Gartenbauvereins (OGV) Hammersbach findet eine Pflanzentauschbörse statt. Jede(r) kann mitmachen\, eigene Pflanzen anbieten und sich auch mit anderen über Themen rund um den Garten austauschen. \nDiese Veranstaltung wird mitorganisiert von Antje Schöny\, sie ist Blühbotschafterin für Hammersbach und wird auch über den Naturgarten\, Biodiversität und die Förderung heimische Pflanzen und Insekten informieren. \nAuch für das leibliche Wohl ist gesorgt\, es gibt Kaffee\, Kuchen und Getränke. \nDas Vereinsgelände des OGV ist in Langenbergheim\, in der verlängerten Borngasse. \nWenn Sie sich darüber hinaus für Themen rund um den Naturgarten interessieren: \nmainkinzigbluehtnet.de   foepi-mkk.de
URL:https://www.gruene-hammersbach.de/event/pflanzentauschboerse/
ATTACH;FMTTYPE=image/png:https://www.gruene-hammersbach.de/wp-content/uploads/2025/02/IMG_5828-e1739047525841.png
END:VEVENT
BEGIN:VEVENT
DTSTART;TZID=Europe/Berlin:20250422T200000
DTEND;TZID=Europe/Berlin:20250422T220000
DTSTAMP:20260421T201742
CREATED:20250113T094025Z
LAST-MODIFIED:20250113T094025Z
UID:1448-1745352000-1745359200@www.gruene-hammersbach.de
SUMMARY:Gemeindevertretersitzung
DESCRIPTION:
URL:https://www.gruene-hammersbach.de/event/gemeindevertretersitzung-3/
LOCATION:Bürgertreff\, Am alten Friedhof\, Hammersbach\, Hessen\, 63546
END:VEVENT
BEGIN:VEVENT
DTSTART;TZID=Europe/Berlin:20250416T200000
DTEND;TZID=Europe/Berlin:20250416T213000
DTSTAMP:20260421T201742
CREATED:20250208T205236Z
LAST-MODIFIED:20250208T205357Z
UID:1603-1744833600-1744839000@www.gruene-hammersbach.de
SUMMARY:OV-Stammtisch
DESCRIPTION:Zusammensitzen in lockerer Runde\, ohne Tagesordnung – Zeit für Gespräche.
URL:https://www.gruene-hammersbach.de/event/ov-stammtisch-2/
LOCATION:Martin-Luther-Haus\, Hammersbach\, Hessen\, 63546\, Germany
CATEGORIES:Ortsverband
ATTACH;FMTTYPE=image/png:https://www.gruene-hammersbach.de/wp-content/uploads/2024/12/1200px-Sunflower_Green_symbol.svg_-e1739047157983.png
END:VEVENT
BEGIN:VEVENT
DTSTART;TZID=Europe/Berlin:20250403T200000
DTEND;TZID=Europe/Berlin:20250403T220000
DTSTAMP:20260421T201742
CREATED:20250113T094800Z
LAST-MODIFIED:20250113T094800Z
UID:1461-1743710400-1743717600@www.gruene-hammersbach.de
SUMMARY:Ausschusswoche
DESCRIPTION:Haupt- und Finanzausschuss
URL:https://www.gruene-hammersbach.de/event/ausschusswoche-7/
LOCATION:Martin-Luther-Haus\, Hammersbach\, Hessen\, 63546\, Germany
END:VEVENT
BEGIN:VEVENT
DTSTART;TZID=Europe/Berlin:20250402T200000
DTEND;TZID=Europe/Berlin:20250402T220000
DTSTAMP:20260421T201742
CREATED:20250113T094711Z
LAST-MODIFIED:20250113T094711Z
UID:1459-1743624000-1743631200@www.gruene-hammersbach.de
SUMMARY:Ausschusswoche
DESCRIPTION:Umwelt\, Landwirtschaft und Forsten
URL:https://www.gruene-hammersbach.de/event/ausschusswoche-6/
LOCATION:Martin-Luther-Haus\, Hammersbach\, Hessen\, 63546\, Germany
END:VEVENT
BEGIN:VEVENT
DTSTART;TZID=Europe/Berlin:20250401T200000
DTEND;TZID=Europe/Berlin:20250401T220000
DTSTAMP:20260421T201742
CREATED:20250113T094623Z
LAST-MODIFIED:20250113T094623Z
UID:1457-1743537600-1743544800@www.gruene-hammersbach.de
SUMMARY:Ausschusswoche
DESCRIPTION:Bau und Planung
URL:https://www.gruene-hammersbach.de/event/ausschusswoche-5/
LOCATION:Martin-Luther-Haus\, Hammersbach\, Hessen\, 63546\, Germany
END:VEVENT
BEGIN:VEVENT
DTSTART;TZID=Europe/Berlin:20250331T200000
DTEND;TZID=Europe/Berlin:20250331T220000
DTSTAMP:20260421T201742
CREATED:20250113T094513Z
LAST-MODIFIED:20250113T094513Z
UID:1455-1743451200-1743458400@www.gruene-hammersbach.de
SUMMARY:Ausschusswoche
DESCRIPTION:Jugend\, Kultur und Soziales (JuKuSo)
URL:https://www.gruene-hammersbach.de/event/ausschusswoche-4/
LOCATION:Martin-Luther-Haus\, Hammersbach\, Hessen\, 63546\, Germany
END:VEVENT
BEGIN:VEVENT
DTSTART;TZID=Europe/Berlin:20250319T200000
DTEND;TZID=Europe/Berlin:20250319T213000
DTSTAMP:20260421T201742
CREATED:20250208T205005Z
LAST-MODIFIED:20250210T183940Z
UID:1601-1742414400-1742419800@www.gruene-hammersbach.de
SUMMARY:OV-Sitzung
DESCRIPTION:
URL:https://www.gruene-hammersbach.de/event/ov-sitzung-2/
LOCATION:Martin-Luther-Haus\, Hammersbach\, Hessen\, 63546\, Germany
ATTACH;FMTTYPE=image/png:https://www.gruene-hammersbach.de/wp-content/uploads/2024/12/1200px-Sunflower_Green_symbol.svg_-e1739047157983.png
END:VEVENT
BEGIN:VEVENT
DTSTART;TZID=Europe/Berlin:20250223T080000
DTEND;TZID=Europe/Berlin:20250223T180000
DTSTAMP:20260421T201742
CREATED:20250116T101019Z
LAST-MODIFIED:20250116T101111Z
UID:1504-1740297600-1740333600@www.gruene-hammersbach.de
SUMMARY:Bundestagswahl 2025
DESCRIPTION:Wählen gehen!!
URL:https://www.gruene-hammersbach.de/event/bundestagswahl/
END:VEVENT
BEGIN:VEVENT
DTSTART;TZID=Europe/Berlin:20250221T150000
DTEND;TZID=Europe/Berlin:20250221T170000
DTSTAMP:20260421T201742
CREATED:20250116T100018Z
LAST-MODIFIED:20250208T204102Z
UID:1494-1740150000-1740157200@www.gruene-hammersbach.de
SUMMARY:Wahlinfostand am REWE
DESCRIPTION:Antje\, Cornelia
URL:https://www.gruene-hammersbach.de/event/wahlinfostand-am-rewe/
LOCATION:REWE LAngenbergheim
ATTACH;FMTTYPE=image/jpeg:https://www.gruene-hammersbach.de/wp-content/uploads/2024/12/Sonnenblumehalb-1-e1739047255430.jpg
END:VEVENT
BEGIN:VEVENT
DTSTART;TZID=Europe/Berlin:20250219T200000
DTEND;TZID=Europe/Berlin:20250219T213000
DTSTAMP:20260421T201742
CREATED:20250208T203034Z
LAST-MODIFIED:20250210T183852Z
UID:1595-1739995200-1740000600@www.gruene-hammersbach.de
SUMMARY:OV - Stammtisch
DESCRIPTION:Zusammensitzen in lockerer Runde\, ohne Tagesordnung – Zeit für Gespräche.
URL:https://www.gruene-hammersbach.de/event/ov-stammtisch/
LOCATION:Martin-Luther-Haus\, Hammersbach\, Hessen\, 63546\, Germany
ATTACH;FMTTYPE=image/png:https://www.gruene-hammersbach.de/wp-content/uploads/2024/12/1200px-Sunflower_Green_symbol.svg_-e1739047157983.png
END:VEVENT
BEGIN:VEVENT
DTSTART;TZID=Europe/Berlin:20250218T200000
DTEND;TZID=Europe/Berlin:20250218T220000
DTSTAMP:20260421T201742
CREATED:20241216T151016Z
LAST-MODIFIED:20241216T164327Z
UID:836-1739908800-1739916000@www.gruene-hammersbach.de
SUMMARY:Sitzung der Gemeindevertretung
DESCRIPTION:
URL:https://www.gruene-hammersbach.de/event/gemeindevertretersitzung/
LOCATION:Bürgertreff\, Am alten Friedhof\, Hammersbach\, Hessen\, 63546
CATEGORIES:Gemeinde Hammersbach
END:VEVENT
BEGIN:VEVENT
DTSTART;TZID=Europe/Berlin:20250130T200000
DTEND;TZID=Europe/Berlin:20250130T220000
DTSTAMP:20260421T201742
CREATED:20241216T164830Z
LAST-MODIFIED:20250116T123425Z
UID:864-1738267200-1738274400@www.gruene-hammersbach.de
SUMMARY:Ausschusswoche
DESCRIPTION:Haushalt und Finanzen
URL:https://www.gruene-hammersbach.de/event/ausschusswoche-3/
LOCATION:Historisches Rathaus
CATEGORIES:Gemeinde Hammersbach
END:VEVENT
END:VCALENDAR